BEGIN:VCALENDAR
VERSION:2.0
PRODID:-//jEvents 2.0 for Joomla//EN
CALSCALE:GREGORIAN
METHOD:PUBLISH
BEGIN:VTIMEZONE
TZID:Europe/Berlin
BEGIN:STANDARD
DTSTART:20251026T020000
RDATE:20260329T030000
TZOFFSETFROM:+0200
TZOFFSETTO:+0100
TZNAME:Europe/Berlin CET
END:STANDARD
BEGIN:STANDARD
DTSTART:20261025T020000
RDATE:20270328T030000
TZOFFSETFROM:+0200
TZOFFSETTO:+0100
TZNAME:Europe/Berlin CET
END:STANDARD
BEGIN:STANDARD
DTSTART:20271031T020000
RDATE:20280326T030000
TZOFFSETFROM:+0200
TZOFFSETTO:+0100
TZNAME:Europe/Berlin CET
END:STANDARD
BEGIN:DAYLIGHT
DTSTART:20251025T193000
RDATE:20251026T020000
TZOFFSETFROM:+0100
TZOFFSETTO:+0200
TZNAME:Europe/Berlin CEST
END:DAYLIGHT
BEGIN:DAYLIGHT
DTSTART:20260329T030000
RDATE:20261025T020000
TZOFFSETFROM:+0100
TZOFFSETTO:+0200
TZNAME:Europe/Berlin CEST
END:DAYLIGHT
BEGIN:DAYLIGHT
DTSTART:20270328T030000
RDATE:20271031T020000
TZOFFSETFROM:+0100
TZOFFSETTO:+0200
TZNAME:Europe/Berlin CEST
END:DAYLIGHT
END:VTIMEZONE
BEGIN:VEVENT
UID:1497641840evt2 1497641840recur
CATEGORIES:Kursplan
CREATED:20170616T193720
SUMMARY:Power Dumbell
LOCATION:Bodyfit
DESCRIPTION;ENCODING=QUOTED-PRINTABLE:\n\nIst ein Langhantelprogramm zur Kräftigung des gesamten Körpers.\n\n\n60
  Minuten lang trainierst du alle Hauptmuskelgruppen mit den besten Gewichts
 übungen, wie z.B. Squats, Presses, Lifts und Curls. Mitreißende Musik, moti
 vierende Instruktoren und das Gewicht deiner Wahl spornen dich zu Höchstlei
 stungen an und sorgen schnell für Ergebnisse!\n Dieser Event wurde importie
 rt von: https://www.erfurt-bodyfit.de/angebote/kursplan/Eventdetail/22587/-
 /power-dumbell.html?tmpl=component
CONTACT:Diese E-Mail-Adresse ist vor Spambots geschützt! Zur Anzeige muss JavaScript eingeschaltet sein!
				document.getElementById('cloakf6a6aa39cdb765b98b190eb5552f2218').innerHTML = '';
				var prefix = '&#109;a' + 'i&#108;' + '&#116;o';
				var path = 'hr' + 'ef' + '=';
				var addyf6a6aa39cdb765b98b190eb5552f2218 = '&#105;nf&#111;' + '&#64;';
				addyf6a6aa39cdb765b98b190eb5552f2218 = addyf6a6aa39cdb765b98b190eb5552f2218 + '&#101;rf&#117;rt-b&#111;dyf&#105;t' + '&#46;' + 'd&#101;';
				var addy_textf6a6aa39cdb765b98b190eb5552f2218 = '&#105;nf&#111;' + '&#64;' + '&#101;rf&#117;rt-b&#111;dyf&#105;t' + '&#46;' + 'd&#101;';document.getElementById('cloakf6a6aa39cdb765b98b190eb5552f2218').innerHTML += ''+addy_textf6a6aa39cdb765b98b190eb5552f2218+'';
		
X-COLOR:#ff9966
DTSTAMP:20260424T142721Z
DTSTART;TZID=Europe/Berlin:20261026T183000
DTEND;TZID=Europe/Berlin:20261026T193000
SEQUENCE:0
TRANSP:OPAQUE
END:VEVENT
END:VCALENDAR