BEGIN:VCALENDAR
VERSION:2.0
PRODID:-//jEvents 2.0 for Joomla//EN
CALSCALE:GREGORIAN
METHOD:PUBLISH
BEGIN:VTIMEZONE
TZID:Europe/Berlin
BEGIN:STANDARD
DTSTART:20251026T020000
RDATE:20260329T030000
TZOFFSETFROM:+0200
TZOFFSETTO:+0100
TZNAME:Europe/Berlin CET
END:STANDARD
BEGIN:STANDARD
DTSTART:20261025T020000
RDATE:20270328T030000
TZOFFSETFROM:+0200
TZOFFSETTO:+0100
TZNAME:Europe/Berlin CET
END:STANDARD
BEGIN:STANDARD
DTSTART:20271031T020000
RDATE:20280326T030000
TZOFFSETFROM:+0200
TZOFFSETTO:+0100
TZNAME:Europe/Berlin CET
END:STANDARD
BEGIN:DAYLIGHT
DTSTART:20251007T103000
RDATE:20251026T020000
TZOFFSETFROM:+0100
TZOFFSETTO:+0200
TZNAME:Europe/Berlin CEST
END:DAYLIGHT
BEGIN:DAYLIGHT
DTSTART:20260329T030000
RDATE:20261025T020000
TZOFFSETFROM:+0100
TZOFFSETTO:+0200
TZNAME:Europe/Berlin CEST
END:DAYLIGHT
BEGIN:DAYLIGHT
DTSTART:20270328T030000
RDATE:20271031T020000
TZOFFSETFROM:+0100
TZOFFSETTO:+0200
TZNAME:Europe/Berlin CEST
END:DAYLIGHT
END:VTIMEZONE
BEGIN:VEVENT
UID:1497641844evt11 1497641844recur
CATEGORIES:Kursplan
CREATED:20170616T193724
SUMMARY:AerobicDance 60+
LOCATION:Bodyfit Erfurt
DESCRIPTION;ENCODING=QUOTED-PRINTABLE:<p>Diese Kurse sind für alle, die es nicht mehr so heftig mögen, aber noch 
 lange nicht zum "Alten Eisen" gehören. Aerobic Dance 60+ ist ein moderner M
 ix aus klassischer Aerobic und verschiedenen Tanzstilen. Wie der Name berei
 ts verrät, steht vor allem dei Ausdauer im Mittelpunkt. Die Fitnesseinheit 
 findet zu rhythmischer, angesagter Musik statt und hebt dadurch die Motivat
 ion.</p> Dieser Event wurde importiert von: https://www.erfurt-bodyfit.de/a
 ngebote/kursplan/Eventdetail/23628/-/aerobicdance-60.html?tmpl=component
CONTACT:Diese E-Mail-Adresse ist vor Spambots geschützt! Zur Anzeige muss JavaScript eingeschaltet sein!
				document.getElementById('cloakd19f5ceeb7e5a30e055427c2e03a2eb4').innerHTML = '';
				var prefix = '&#109;a' + 'i&#108;' + '&#116;o';
				var path = 'hr' + 'ef' + '=';
				var addyd19f5ceeb7e5a30e055427c2e03a2eb4 = '&#105;nf&#111;' + '&#64;';
				addyd19f5ceeb7e5a30e055427c2e03a2eb4 = addyd19f5ceeb7e5a30e055427c2e03a2eb4 + 't&#97;nzf&#97;br&#105;k-&#101;rf&#117;rt' + '&#46;' + 'd&#101;';
				var addy_textd19f5ceeb7e5a30e055427c2e03a2eb4 = '&#105;nf&#111;' + '&#64;' + 't&#97;nzf&#97;br&#105;k-&#101;rf&#117;rt' + '&#46;' + 'd&#101;';document.getElementById('cloakd19f5ceeb7e5a30e055427c2e03a2eb4').innerHTML += ''+addy_textd19f5ceeb7e5a30e055427c2e03a2eb4+'';
		
X-COLOR:#ffcc99
DTSTAMP:20260424T130032Z
DTSTART;TZID=Europe/Berlin:20261008T103000
DTEND;TZID=Europe/Berlin:20261008T113000
SEQUENCE:0
TRANSP:OPAQUE
END:VEVENT
END:VCALENDAR