BEGIN:VCALENDAR
VERSION:2.0
PRODID:-//jEvents 2.0 for Joomla//EN
CALSCALE:GREGORIAN
METHOD:PUBLISH
BEGIN:VTIMEZONE
TZID:Europe/Berlin
BEGIN:STANDARD
DTSTART:20251026T020000
RDATE:20260329T030000
TZOFFSETFROM:+0200
TZOFFSETTO:+0100
TZNAME:Europe/Berlin CET
END:STANDARD
BEGIN:STANDARD
DTSTART:20261025T020000
RDATE:20270328T030000
TZOFFSETFROM:+0200
TZOFFSETTO:+0100
TZNAME:Europe/Berlin CET
END:STANDARD
BEGIN:STANDARD
DTSTART:20271031T020000
RDATE:20280326T030000
TZOFFSETFROM:+0200
TZOFFSETTO:+0100
TZNAME:Europe/Berlin CET
END:STANDARD
BEGIN:DAYLIGHT
DTSTART:20250928T083000
RDATE:20251026T020000
TZOFFSETFROM:+0100
TZOFFSETTO:+0200
TZNAME:Europe/Berlin CEST
END:DAYLIGHT
BEGIN:DAYLIGHT
DTSTART:20260329T030000
RDATE:20261025T020000
TZOFFSETFROM:+0100
TZOFFSETTO:+0200
TZNAME:Europe/Berlin CEST
END:DAYLIGHT
BEGIN:DAYLIGHT
DTSTART:20270328T030000
RDATE:20271031T020000
TZOFFSETFROM:+0100
TZOFFSETTO:+0200
TZNAME:Europe/Berlin CEST
END:DAYLIGHT
END:VTIMEZONE
BEGIN:VEVENT
UID:1497641840evt10 1497641840recur
CATEGORIES:Kursplan
CREATED:20170616T193720
SUMMARY:Tai Chi
LOCATION:Bodyfit Erfurt
DESCRIPTION;ENCODING=QUOTED-PRINTABLE:<p>Tai Chi bezeichnet eine asiatische Kampfkunst, die nicht nur Aspekte der
  Selbstverteidigung enthält. Grundlage ist das chinesische Prinzip Yin und 
 Yang. Nach der chinesischen Medizin ist ein Mensch nur dann gesund, wenn be
 ide Prinzipien sich im Einklang befinden und die chinesische Lebensenergie 
 ("Chi") ungehindert durch den Körper fließen kann. Tai Chi zeichnet sich in
 sbesondere durch zeitlupenartige Bewegungen mit konzentrierter Atmung aus. 
 Die häufige Verlagerung des Gewichts von einem Bein auf das andere und die 
 ständige Bewegung mit den Armen sind die praktische Umsetzung der zugrunde 
 liegenden Philosophie der Harmonie: dem Wechsel zwischen Yin und Yang.</p> 
 Dieser Event wurde importiert von: https://www.erfurt-bodyfit.de/angebote/k
 ursplan/Eventdetail/24045/-/tai-chi.html?tmpl=component
CONTACT:Diese E-Mail-Adresse ist vor Spambots geschützt! Zur Anzeige muss JavaScript eingeschaltet sein!
				document.getElementById('cloak9dd3272c8681ea4f2f9afdb540aa6747').innerHTML = '';
				var prefix = '&#109;a' + 'i&#108;' + '&#116;o';
				var path = 'hr' + 'ef' + '=';
				var addy9dd3272c8681ea4f2f9afdb540aa6747 = 'D&#105;&#101;tm&#97;r' + '&#64;';
				addy9dd3272c8681ea4f2f9afdb540aa6747 = addy9dd3272c8681ea4f2f9afdb540aa6747 + '&#101;rf&#117;rt-b&#111;dyf&#105;t' + '&#46;' + 'd&#101;';
				var addy_text9dd3272c8681ea4f2f9afdb540aa6747 = 'D&#105;&#101;tm&#97;r' + '&#64;' + '&#101;rf&#117;rt-b&#111;dyf&#105;t' + '&#46;' + 'd&#101;';document.getElementById('cloak9dd3272c8681ea4f2f9afdb540aa6747').innerHTML += ''+addy_text9dd3272c8681ea4f2f9afdb540aa6747+'';
		
X-COLOR:#ffcc99
DTSTAMP:20260424T112615Z
DTSTART;TZID=Europe/Berlin:20260929T083000
DTEND;TZID=Europe/Berlin:20260929T093000
SEQUENCE:0
TRANSP:OPAQUE
END:VEVENT
END:VCALENDAR