BEGIN:VCALENDAR
VERSION:2.0
PRODID:-//jEvents 2.0 for Joomla//EN
CALSCALE:GREGORIAN
METHOD:PUBLISH
BEGIN:VTIMEZONE
TZID:Europe/Berlin
BEGIN:STANDARD
DTSTART:20251026T020000
RDATE:20260329T030000
TZOFFSETFROM:+0200
TZOFFSETTO:+0100
TZNAME:Europe/Berlin CET
END:STANDARD
BEGIN:STANDARD
DTSTART:20261025T020000
RDATE:20270328T030000
TZOFFSETFROM:+0200
TZOFFSETTO:+0100
TZNAME:Europe/Berlin CET
END:STANDARD
BEGIN:STANDARD
DTSTART:20271031T020000
RDATE:20280326T030000
TZOFFSETFROM:+0200
TZOFFSETTO:+0100
TZNAME:Europe/Berlin CET
END:STANDARD
BEGIN:DAYLIGHT
DTSTART:20250923T180000
RDATE:20251026T020000
TZOFFSETFROM:+0100
TZOFFSETTO:+0200
TZNAME:Europe/Berlin CEST
END:DAYLIGHT
BEGIN:DAYLIGHT
DTSTART:20260329T030000
RDATE:20261025T020000
TZOFFSETFROM:+0100
TZOFFSETTO:+0200
TZNAME:Europe/Berlin CEST
END:DAYLIGHT
BEGIN:DAYLIGHT
DTSTART:20270328T030000
RDATE:20271031T020000
TZOFFSETFROM:+0100
TZOFFSETTO:+0200
TZNAME:Europe/Berlin CEST
END:DAYLIGHT
END:VTIMEZONE
BEGIN:VEVENT
UID:1497641849evt23 1497641849recur
CATEGORIES:Kursplan
CREATED:20170616T193729
SUMMARY:Indoor Cycling
LOCATION:Bodyfit Erfurt
DESCRIPTION;ENCODING=QUOTED-PRINTABLE:<p>Mittlerweile ist das Indoor Cycling nicht mehr nur Trendsport, sondern h
 at sich als beliebte Ausdauersportart etabliert. Es ist je nach Trainingsin
 tensität für eigentlich jede Zielgruppe geeignet. Egal ob man 14 oder 70 Ja
 hre alt ist, ob man untrainiert oder ein Sportass ist. Durch individuelle T
 rainingsplanung kann jeder maximalen Nutzen aus diesem Workout ziehen. Indo
 or Cycling verbessert die Kondition, aktiviert den Stoffwechsel und lässt ü
 berschüssige Pfunde verschwinden.</p> Dieser Event wurde importiert von: ht
 tps://www.erfurt-bodyfit.de/angebote/kursplan/Eventdetail/27903/-/indoor-cy
 cling.html?tmpl=component
CONTACT:Diese E-Mail-Adresse ist vor Spambots geschützt! Zur Anzeige muss JavaScript eingeschaltet sein!
				document.getElementById('cloak6241887e05a8ebd58c2bf402191030c8').innerHTML = '';
				var prefix = '&#109;a' + 'i&#108;' + '&#116;o';
				var path = 'hr' + 'ef' + '=';
				var addy6241887e05a8ebd58c2bf402191030c8 = 'M&#97;&#105;k' + '&#64;';
				addy6241887e05a8ebd58c2bf402191030c8 = addy6241887e05a8ebd58c2bf402191030c8 + '&#101;rf&#117;rt-b&#111;dyf&#105;t' + '&#46;' + 'd&#101;';
				var addy_text6241887e05a8ebd58c2bf402191030c8 = 'M&#97;&#105;k' + '&#64;' + '&#101;rf&#117;rt-b&#111;dyf&#105;t' + '&#46;' + 'd&#101;';document.getElementById('cloak6241887e05a8ebd58c2bf402191030c8').innerHTML += ''+addy_text6241887e05a8ebd58c2bf402191030c8+'';
		
X-COLOR:#ff9966
DTSTAMP:20260424T124550Z
DTSTART;TZID=Europe/Berlin:20260924T180000
DTEND;TZID=Europe/Berlin:20260924T190000
SEQUENCE:0
TRANSP:OPAQUE
END:VEVENT
END:VCALENDAR