BEGIN:VCALENDAR
VERSION:2.0
PRODID:-//jEvents 2.0 for Joomla//EN
CALSCALE:GREGORIAN
METHOD:PUBLISH
BEGIN:VTIMEZONE
TZID:Europe/Berlin
BEGIN:STANDARD
DTSTART:20251110T183000
RDATE:20260329T030000
TZOFFSETFROM:+0200
TZOFFSETTO:+0100
TZNAME:Europe/Berlin CET
END:STANDARD
BEGIN:STANDARD
DTSTART:20261025T020000
RDATE:20270328T030000
TZOFFSETFROM:+0200
TZOFFSETTO:+0100
TZNAME:Europe/Berlin CET
END:STANDARD
BEGIN:STANDARD
DTSTART:20271031T020000
RDATE:20280326T030000
TZOFFSETFROM:+0200
TZOFFSETTO:+0100
TZNAME:Europe/Berlin CET
END:STANDARD
BEGIN:DAYLIGHT
DTSTART:20260329T030000
RDATE:20261025T020000
TZOFFSETFROM:+0100
TZOFFSETTO:+0200
TZNAME:Europe/Berlin CEST
END:DAYLIGHT
BEGIN:DAYLIGHT
DTSTART:20270328T030000
RDATE:20271031T020000
TZOFFSETFROM:+0100
TZOFFSETTO:+0200
TZNAME:Europe/Berlin CEST
END:DAYLIGHT
END:VTIMEZONE
BEGIN:VEVENT
UID:1497641844evt18 1497641844recur
CATEGORIES:Kursplan
CREATED:20170616T193724
SUMMARY:Aerobic Mix** 
LOCATION:Body fit Erfurt
DESCRIPTION;ENCODING=QUOTED-PRINTABLE:<p>Diese Form der Low Impact Aerobic ist durch die Arbeit im mittleren Bela
 stungsbereich verstärkt auf die Verbrennung von Kalorien und die damit verb
 undene Gewichtsreduktion ausgerichtet. Mit dem Verzicht auf Lauf- und Sprun
 gübungen ist sie außerdem eine sehr gelenkschonende Art des Aerobictraining
 s.</p><p>**Teilnahme nur mit einer aktiven Mitgliedschaft im Body fit Erfur
 t möglich</p> Dieser Event wurde importiert von: https://www.erfurt-bodyfit
 .de/angebote/kursplan/Eventdetail/29372/-/aerobic-mix.html?tmpl=component
CONTACT:Diese E-Mail-Adresse ist vor Spambots geschützt! Zur Anzeige muss JavaScript eingeschaltet sein!
				document.getElementById('cloak717fef8a0c7be68514c6fb7f66291bb8').innerHTML = '';
				var prefix = '&#109;a' + 'i&#108;' + '&#116;o';
				var path = 'hr' + 'ef' + '=';
				var addy717fef8a0c7be68514c6fb7f66291bb8 = '&#105;nf&#111;' + '&#64;';
				addy717fef8a0c7be68514c6fb7f66291bb8 = addy717fef8a0c7be68514c6fb7f66291bb8 + 't&#97;nzf&#97;br&#105;k-&#101;rf&#117;rt' + '&#46;' + 'd&#101;';
				var addy_text717fef8a0c7be68514c6fb7f66291bb8 = '&#105;nf&#111;' + '&#64;' + 't&#97;nzf&#97;br&#105;k-&#101;rf&#117;rt' + '&#46;' + 'd&#101;';document.getElementById('cloak717fef8a0c7be68514c6fb7f66291bb8').innerHTML += ''+addy_text717fef8a0c7be68514c6fb7f66291bb8+'';
		
X-COLOR:#8b97f7
DTSTAMP:20260424T184824Z
DTSTART;TZID=Europe/Berlin:20261111T183000
DTEND;TZID=Europe/Berlin:20261111T193000
SEQUENCE:0
TRANSP:OPAQUE
END:VEVENT
END:VCALENDAR